BEGIN:VCALENDAR
VERSION:2.0
PRODID:-//Big Shoulders Fund - ECPv6.15.13.1//NONSGML v1.0//EN
CALSCALE:GREGORIAN
METHOD:PUBLISH
X-WR-CALNAME:Big Shoulders Fund
X-ORIGINAL-URL:https://bigshouldersfund.org
X-WR-CALDESC:Events for Big Shoulders Fund
REFRESH-INTERVAL;VALUE=DURATION:PT1H
X-Robots-Tag:noindex
X-PUBLISHED-TTL:PT1H
BEGIN:VTIMEZONE
TZID:UTC
BEGIN:STANDARD
TZOFFSETFROM:+0000
TZOFFSETTO:+0000
TZNAME:UTC
DTSTART:20250101T000000
END:STANDARD
END:VTIMEZONE
BEGIN:VEVENT
DTSTART;TZID=UTC:20260429T173000
DTEND;TZID=UTC:20260429T193000
DTSTAMP:20260426T042937
CREATED:20260211T225056Z
LAST-MODIFIED:20260410T170512Z
UID:14424-1777483800-1777491000@bigshouldersfund.org
SUMMARY:Chairs' Advisory Council State of the Union
DESCRIPTION:Join the CAC for their second gathering of the year!  We will meet from 5:30-7:30pm at CIBC (120 S. LaSalle Street). \nRSVP here. \nIf you have any questions\, please reach out to Megan Bouche at mbouche@bigshouldersfund.org.
URL:https://bigshouldersfund.org/calendar-event/chairs-advisory-council-state-of-the-union/
LOCATION:CIBC\, 120 S. LaSalle Street\, Chicago\, IL\, 60603
CATEGORIES:Chairmen's Advisory Council,Meeting,Next Generation Boards
ORGANIZER;CN="Megan Bouch%C3%A9":MAILTO:mbouche@bigshouldersfund.org
END:VEVENT
BEGIN:VEVENT
DTSTART;TZID=UTC:20260604T180000
DTEND;TZID=UTC:20260604T200000
DTSTAMP:20260426T042937
CREATED:20260410T171429Z
LAST-MODIFIED:20260410T171459Z
UID:14492-1780596000-1780603200@bigshouldersfund.org
SUMMARY:Big Shoulders Fund Ball Kickoff
DESCRIPTION:Start the 20th Annual Big Shoulders Fund Ball season at our kickoff event for ticket sales! \nWe invite you to join us on Thursday\, June 4 at Recess (838 W Kinzie St) from 6-8pm. RSVP here.  \nNot only is this your first chance to purchase Big Shoulders Fund Ball tickets\, but it’s also an evening of networking for our Next Generation Boards. \nClick here for additional Big Shoulders Fund Ball details.  \nFor additional information about Kickoff or the Big Shoulders Fund Ball\, please contact Megan Bouche.
URL:https://bigshouldersfund.org/calendar-event/big-shoulders-fund-ball-kickoff/
LOCATION:Recess\, 838 W Kinzie Street\, Chicago\, IL\, 60642
CATEGORIES:Auxiliary Board,Chairmen's Advisory Council,Networking,Next Generation Boards
ORGANIZER;CN="Megan Bouch%C3%A9":MAILTO:mbouche@bigshouldersfund.org
END:VEVENT
END:VCALENDAR